View In:
ArcGIS JavaScript
ArcGIS Online Map Viewer
ArcGIS Earth
Service Description: This imagery layer contains Linn County, Iowa spring 2023 imagery. Imagery was collected between March and May of 2023. Urban areas are covered by 3 inch pixel resolution. Rural areas are covered by 6 inch pixel resolution.
Note: This image service has an infrared band (band 4) available.
Imagery Layer Details
- Update Frequency: Never
- Urban Pixel Resolution: 3 inch
- Rural Pixel Resolution: 6 inch
- Bands: 4 (Band 1: Red, Band 2: Green, Band 3: Blue, Band 4: Infrared)
- Source Tile Coordinate System: NAD 1983 (2011) Iowa State Plane (wkid: 6463)
- Mosaic Coordinate System: Web Mercator Auxiliary Sphere (wkid: 3857)
Additional Resources
Visit
Linn County, Iowa GIS on the web. This site is updated as needed to reflect maps, apps, and data of interest from various County departments.
Contact Information
Questions? Contact the GIS Division by phone at 319.892.5250 or by
email.
Name: Imagery/img2023Spring
Description: This imagery layer contains Linn County, Iowa spring 2023 imagery. Imagery was collected between March and May of 2023. Urban areas are covered by 3 inch pixel resolution. Rural areas are covered by 6 inch pixel resolution.
Note: This image service has an infrared band (band 4) available.
Imagery Layer Details
- Update Frequency: Never
- Urban Pixel Resolution: 3 inch
- Rural Pixel Resolution: 6 inch
- Bands: 4 (Band 1: Red, Band 2: Green, Band 3: Blue, Band 4: Infrared)
- Source Tile Coordinate System: NAD 1983 (2011) Iowa State Plane (wkid: 6463)
- Mosaic Coordinate System: Web Mercator Auxiliary Sphere (wkid: 3857)
Additional Resources
Visit
Linn County, Iowa GIS on the web. This site is updated as needed to reflect maps, apps, and data of interest from various County departments.
Contact Information
Questions? Contact the GIS Division by phone at 319.892.5250 or by
email.
Single Fused Map Cache: false
Extent:
XMin: -1.0223290967E7
YMin: 5139715.5273416545
XMax: -1.0170274101366268E7
YMax: 5206094.699299999
Spatial Reference: 102100
(3857)
LatestVCSWkid(0)
Initial Extent:
XMin: -1.0223290967E7
YMin: 5139715.5273416545
XMax: -1.0170274101366268E7
YMax: 5206094.699299999
Spatial Reference: 102100
(3857)
LatestVCSWkid(0)
Full Extent:
XMin: -1.0223290967E7
YMin: 5139715.5273416545
XMax: -1.0170274101366268E7
YMax: 5206094.699299999
Spatial Reference: 102100
(3857)
LatestVCSWkid(0)
Pixel Size X: 0.07620015240030543
Pixel Size Y: 0.07620015240030496
Band Count: 4
Pixel Type: U8
RasterFunction Infos: {"rasterFunctionInfos": [{
"name": "None",
"description": "",
"help": ""
}]}
Mensuration Capabilities: None
Inspection Capabilities:
Has Histograms: true
Has Colormap: false
Has Multi Dimensions : false
Rendering Rule:
Min Scale: 0
Max Scale: 0
Resampling: false
Copyright Text: Linn County, Iowa GIS
Edit Fields Info:
- Creation Date Field: CreatedDate
- Creator Field: CreatedBy
- Edit Date Field: ModifiedDate
- Editor Field: ModifiedBy
Ownership Based Access Control:
- Allow Others to Update: false
- Allow Others to Delete: false
Service Data Type: esriImageServiceDataTypeProcessed
Min Values: 0, 0, 0, 0
Max Values: 255, 255, 255, 255
Mean Values: 155.20119534342302, 134.5628321621018, 99.58470254327919, 122.15567531442763
Standard Deviation Values: 39.953783559396825, 37.46827537202964, 32.2620952789693, 30.89615238331686
Object ID Field: OBJECTID
Fields:
-
OBJECTID
(
type: esriFieldTypeOID, alias: OBJECTID
)
-
Shape
(
type: esriFieldTypeGeometry, alias: Shape
)
-
Name
(
type: esriFieldTypeString, alias: Name, length: 200
)
-
MinPS
(
type: esriFieldTypeDouble, alias: MinPS
)
-
MaxPS
(
type: esriFieldTypeDouble, alias: MaxPS
)
-
LowPS
(
type: esriFieldTypeDouble, alias: LowPS
)
-
HighPS
(
type: esriFieldTypeDouble, alias: HighPS
)
-
Category
(
type: esriFieldTypeInteger, alias: Category
, Coded Values:
[0: Unknown]
, [1: Primary]
, [2: Overview]
, ...6 more...
)
-
Tag
(
type: esriFieldTypeString, alias: Tag, length: 100
)
-
GroupName
(
type: esriFieldTypeString, alias: GroupName, length: 100
)
-
ProductName
(
type: esriFieldTypeString, alias: ProductName, length: 100
)
-
CenterX
(
type: esriFieldTypeDouble, alias: CenterX
)
-
CenterY
(
type: esriFieldTypeDouble, alias: CenterY
)
-
ZOrder
(
type: esriFieldTypeInteger, alias: ZOrder
)
-
Shape_Length
(
type: esriFieldTypeDouble, alias: Shape_Length
)
-
Shape_Area
(
type: esriFieldTypeDouble, alias: Shape_Area
)
-
Resolution
(
type: esriFieldTypeSmallInteger, alias: Resolution
, Coded Values:
[1: 3 inch]
, [2: 6 inch]
)
Default Mosaic Method: Northwest
Allowed Mosaic Methods: NorthWest,Center,LockRaster,ByAttribute,Nadir,Viewpoint,Seamline,None
SortField:
SortValue: null
Mosaic Operator: First
Default Compression Quality: 75
Default Resampling Method: Bilinear
Max Record Count: 1000
Max Image Height: 4100
Max Image Width: 15000
Max Download Image Count: 20
Max Mosaic Image Count: 25
Allow Raster Function: true
Allow Copy: false
Allow Analysis: true
Allow Compute TiePoints: false
Supports Statistics: true
Supports Advanced Queries: true
Use StandardizedQueries: true
Raster Type Infos:
Name: Raster Dataset
Description: Supports all ArcGIS Raster Datasets
Help:
Has Raster Attribute Table: false
Edit Fields Info: {"creationDateField":"CreatedDate","creatorField":"CreatedBy","editDateField":"ModifiedDate","editorField":"ModifiedBy"}
Ownership Based AccessControl For Rasters: {"allowOthersToDelete":false,"allowOthersToUpdate":false}
Child Resources:
Info
Histograms
Statistics
Key Properties
Legend
Raster Function Infos
Supported Operations:
Export Image
Query
Identify
Compute Histograms
Compute Statistics Histograms
Get Samples
Compute Class Statistics
Query GPS Info
Find Images
Image to Map
Map to Image
Measure from Image
Image to Map Multiray
Query Boundary
Compute Pixel Location
Compute Angles
Validate
Project