View In:
ArcGIS JavaScript
ArcGIS Online Map Viewer
ArcGIS Earth
Service Description: This layer contains Linn County, Iowa 2014 imagery. Urban areas are covered by 4 inch pixel resolution. Rural areas are covered by 9 inch pixel resolution.
Imagery Layer Details
- Update Frequency: Never
- Urban Pixel Resolution: 4 inch
- Rural Pixel Resolution: 9 inch
- Source Tile Coordinate System: NAD 1983 Iowa State Plane (wkid: 3417)
- Mosaic Coordinate System: Web Mercator Auxiliary Sphere (wkid: 3857)
Additional Resources
Visit the
Linn County, Iowa GIS portal. This site is updated as needed to reflect maps, apps, and data of interest from various County departments.
Contact Information
Questions? Contact the GIS Division by phone at 319.892.5250 or by
email.
Name: Imagery/img2014
Description: This layer contains Linn County, Iowa 2014 imagery. Urban areas are covered by 4 inch pixel resolution. Rural areas are covered by 9 inch pixel resolution.
Imagery Layer Details
- Update Frequency: Never
- Urban Pixel Resolution: 4 inch
- Rural Pixel Resolution: 9 inch
- Source Tile Coordinate System: NAD 1983 Iowa State Plane (wkid: 3417)
- Mosaic Coordinate System: Web Mercator Auxiliary Sphere (wkid: 3857)
Additional Resources
Visit the
Linn County, Iowa GIS portal. This site is updated as needed to reflect maps, apps, and data of interest from various County departments.
Contact Information
Questions? Contact the GIS Division by phone at 319.892.5250 or by
email.
Single Fused Map Cache: false
Extent:
XMin: -1.02238827363E7
YMin: 5139650.7219236875
XMax: -1.0169383575046679E7
YMax: 5207126.261
Spatial Reference: 102100
(3857)
LatestVCSWkid(0)
Initial Extent:
XMin: -1.02238827363E7
YMin: 5139650.7219236875
XMax: -1.0169383575046679E7
YMax: 5207126.261
Spatial Reference: 102100
(3857)
LatestVCSWkid(0)
Full Extent:
XMin: -1.02238827363E7
YMin: 5139650.7219236875
XMax: -1.0169383575046679E7
YMax: 5207126.261
Spatial Reference: 102100
(3857)
LatestVCSWkid(0)
Pixel Size X: 0.1016002021843856
Pixel Size Y: 0.10160020218438681
Band Count: 3
Pixel Type: U8
RasterFunction Infos: {"rasterFunctionInfos": [{
"name": "None",
"description": "",
"help": ""
}]}
Mensuration Capabilities: None
Inspection Capabilities:
Has Histograms: true
Has Colormap: false
Has Multi Dimensions : false
Rendering Rule:
Min Scale: 0
Max Scale: 0
Resampling: false
Copyright Text: Linn County, Iowa GIS
Edit Fields Info:
- Creation Date Field: CreatedDate
- Creator Field: CreatedBy
- Edit Date Field: ModifiedDate
- Editor Field: ModifiedBy
Ownership Based Access Control:
- Allow Others to Update: false
- Allow Others to Delete: false
Service Data Type: esriImageServiceDataTypeProcessed
Min Values: 0, 0, 0
Max Values: 255, 255, 255
Mean Values: 145.47027045868933, 124.29262012812549, 90.69118210602029
Standard Deviation Values: 37.59406657417876, 34.40230943539348, 29.044939281164382
Object ID Field: OBJECTID
Fields:
-
OBJECTID
(
type: esriFieldTypeOID, alias: OBJECTID
)
-
Shape
(
type: esriFieldTypeGeometry, alias: Shape
)
-
Name
(
type: esriFieldTypeString, alias: Name, length: 200
)
-
MinPS
(
type: esriFieldTypeDouble, alias: MinPS
)
-
MaxPS
(
type: esriFieldTypeDouble, alias: MaxPS
)
-
LowPS
(
type: esriFieldTypeDouble, alias: LowPS
)
-
HighPS
(
type: esriFieldTypeDouble, alias: HighPS
)
-
Category
(
type: esriFieldTypeInteger, alias: Category
, Coded Values:
[0: Unknown]
, [1: Primary]
, [2: Overview]
, ...6 more...
)
-
Tag
(
type: esriFieldTypeString, alias: Tag, length: 100
)
-
GroupName
(
type: esriFieldTypeString, alias: GroupName, length: 100
)
-
ProductName
(
type: esriFieldTypeString, alias: ProductName, length: 100
)
-
CenterX
(
type: esriFieldTypeDouble, alias: CenterX
)
-
CenterY
(
type: esriFieldTypeDouble, alias: CenterY
)
-
ZOrder
(
type: esriFieldTypeInteger, alias: ZOrder
)
-
Shape_Length
(
type: esriFieldTypeDouble, alias: Shape_Length
)
-
Shape_Area
(
type: esriFieldTypeDouble, alias: Shape_Area
)
-
Resolution
(
type: esriFieldTypeSmallInteger, alias: Resolution
, Coded Values:
[1: 4 inch]
, [2: 9 inch]
)
Default Mosaic Method: Northwest
Allowed Mosaic Methods: NorthWest,Center,LockRaster,ByAttribute,Nadir,Viewpoint,Seamline,None
SortField:
SortValue: null
Mosaic Operator: First
Default Compression Quality: 75
Default Resampling Method: Bilinear
Max Record Count: 1000
Max Image Height: 4100
Max Image Width: 15000
Max Download Image Count: 20
Max Mosaic Image Count: 25
Allow Raster Function: true
Allow Copy: true
Allow Analysis: true
Allow Compute TiePoints: false
Supports Statistics: true
Supports Advanced Queries: true
Use StandardizedQueries: true
Raster Type Infos:
Name: Raster Dataset
Description: Supports all ArcGIS Raster Datasets
Help:
Has Raster Attribute Table: false
Edit Fields Info: {"creationDateField":"CreatedDate","creatorField":"CreatedBy","editDateField":"ModifiedDate","editorField":"ModifiedBy"}
Ownership Based AccessControl For Rasters: {"allowOthersToDelete":false,"allowOthersToUpdate":false}
Child Resources:
Info
Histograms
Statistics
Key Properties
Legend
Raster Function Infos
Supported Operations:
Export Image
Query
Identify
Compute Histograms
Compute Statistics Histograms
Get Samples
Compute Class Statistics
Query GPS Info
Find Images
Image to Map
Map to Image
Measure from Image
Image to Map Multiray
Query Boundary
Compute Pixel Location
Compute Angles
Validate
Project