View In:
ArcGIS JavaScript
ArcGIS Online Map Viewer
ArcGIS Earth
Service Description: This layer contains Linn County, Iowa 2012 spring imagery. The entire County is covered by 3 inch pixel resolution.
Imagery Layer Details
- Update Frequency: Never
- Urban Pixel Resolution: 3 inch
- Rural Pixel Resolution: 3 inch
- Source Tile Coordinate System: NAD 1983 Iowa State Plane (wkid: 3417)
- Mosaic Coordinate System: Web Mercator Auxiliary Sphere (wkid: 3857)
Additional Resources
Visit the
Linn County, Iowa GIS portal. This site is updated as needed to reflect maps, apps, and data of interest from various County departments.
Contact Information
Questions? Contact the GIS Division by phone at 319.892.5250 or by
email.
Name: Imagery/img2012Spring
Description: This layer contains Linn County, Iowa 2012 spring imagery. The entire County is covered by 3 inch pixel resolution.
Imagery Layer Details
- Update Frequency: Never
- Urban Pixel Resolution: 3 inch
- Rural Pixel Resolution: 3 inch
- Source Tile Coordinate System: NAD 1983 Iowa State Plane (wkid: 3417)
- Mosaic Coordinate System: Web Mercator Auxiliary Sphere (wkid: 3857)
Additional Resources
Visit the
Linn County, Iowa GIS portal. This site is updated as needed to reflect maps, apps, and data of interest from various County departments.
Contact Information
Questions? Contact the GIS Division by phone at 319.892.5250 or by
email.
Single Fused Map Cache: false
Extent:
XMin: -1.02239902397E7
YMin: 5137833.545818037
XMax: -1.0168641497002516E7
YMax: 5206924.528800003
Spatial Reference: 102100
(3857)
LatestVCSWkid(0)
Initial Extent:
XMin: -1.02239902397E7
YMin: 5137833.545818037
XMax: -1.0168641497002516E7
YMax: 5206924.528800003
Spatial Reference: 102100
(3857)
LatestVCSWkid(0)
Full Extent:
XMin: -1.02239902397E7
YMin: 5137833.545818037
XMax: -1.0168641497002516E7
YMax: 5206924.528800003
Spatial Reference: 102100
(3857)
LatestVCSWkid(0)
Pixel Size X: 0.07620015240030396
Pixel Size Y: 0.0762001524003047
Band Count: 4
Pixel Type: U8
RasterFunction Infos: {"rasterFunctionInfos": [{
"name": "None",
"description": "",
"help": ""
}]}
Mensuration Capabilities: None
Inspection Capabilities:
Has Histograms: true
Has Colormap: false
Has Multi Dimensions : false
Rendering Rule:
Min Scale: 0
Max Scale: 0
Resampling: false
Copyright Text: Linn County, Iowa GIS
Edit Fields Info:
- Creation Date Field: CreatedDate
- Creator Field: CreatedBy
- Edit Date Field: ModifiedDate
- Editor Field: ModifiedBy
Ownership Based Access Control:
- Allow Others to Update: false
- Allow Others to Delete: false
Service Data Type: esriImageServiceDataTypeProcessed
Min Values: 0, 1, 0, 0
Max Values: 255, 255, 255, 255
Mean Values: 105.47296471547803, 104.90279163870498, 90.50412563123301, 136.93519900708193
Standard Deviation Values: 30.15442383833659, 26.6229277923232, 25.962514383183148, 21.24950008788649
Object ID Field: OBJECTID
Fields:
-
OBJECTID
(
type: esriFieldTypeOID, alias: OBJECTID
)
-
Shape
(
type: esriFieldTypeGeometry, alias: Shape
)
-
Name
(
type: esriFieldTypeString, alias: Name, length: 200
)
-
MinPS
(
type: esriFieldTypeDouble, alias: MinPS
)
-
MaxPS
(
type: esriFieldTypeDouble, alias: MaxPS
)
-
LowPS
(
type: esriFieldTypeDouble, alias: LowPS
)
-
HighPS
(
type: esriFieldTypeDouble, alias: HighPS
)
-
Category
(
type: esriFieldTypeInteger, alias: Category
, Coded Values:
[0: Unknown]
, [1: Primary]
, [2: Overview]
, ...6 more...
)
-
Tag
(
type: esriFieldTypeString, alias: Tag, length: 100
)
-
GroupName
(
type: esriFieldTypeString, alias: GroupName, length: 100
)
-
ProductName
(
type: esriFieldTypeString, alias: ProductName, length: 100
)
-
CenterX
(
type: esriFieldTypeDouble, alias: CenterX
)
-
CenterY
(
type: esriFieldTypeDouble, alias: CenterY
)
-
ZOrder
(
type: esriFieldTypeInteger, alias: ZOrder
)
-
Shape_Length
(
type: esriFieldTypeDouble, alias: Shape_Length
)
-
Shape_Area
(
type: esriFieldTypeDouble, alias: Shape_Area
)
-
Resolution
(
type: esriFieldTypeInteger, alias: Resolution
, Coded Values:
[1: 3 inch]
)
Default Mosaic Method: Northwest
Allowed Mosaic Methods: NorthWest,Center,LockRaster,ByAttribute,Nadir,Viewpoint,Seamline,None
SortField:
SortValue: null
Mosaic Operator: First
Default Compression Quality: 75
Default Resampling Method: Bilinear
Max Record Count: 1000
Max Image Height: 4100
Max Image Width: 15000
Max Download Image Count: 20
Max Mosaic Image Count: 25
Allow Raster Function: true
Allow Copy: true
Allow Analysis: true
Allow Compute TiePoints: false
Supports Statistics: true
Supports Advanced Queries: true
Use StandardizedQueries: true
Raster Type Infos:
Name: Raster Dataset
Description: Supports all ArcGIS Raster Datasets
Help:
Has Raster Attribute Table: false
Edit Fields Info: {"creationDateField":"CreatedDate","creatorField":"CreatedBy","editDateField":"ModifiedDate","editorField":"ModifiedBy"}
Ownership Based AccessControl For Rasters: {"allowOthersToDelete":false,"allowOthersToUpdate":false}
Child Resources:
Info
Histograms
Statistics
Key Properties
Legend
Raster Function Infos
Supported Operations:
Export Image
Query
Identify
Compute Histograms
Compute Statistics Histograms
Get Samples
Compute Class Statistics
Query GPS Info
Find Images
Image to Map
Map to Image
Measure from Image
Image to Map Multiray
Query Boundary
Compute Pixel Location
Compute Angles
Validate
Project