View In:
ArcGIS JavaScript
ArcGIS Online Map Viewer
ArcGIS Earth
Service Description: Imagery/img2010
Name: Imagery/img2010
Description:
Single Fused Map Cache: false
Extent:
XMin: -1.02261908401E7
YMin: 5136547.270199997
XMax: -1.01676430273E7
YMax: 5207456.551799998
Spatial Reference: 102100
(3857)
LatestVCSWkid(0)
Initial Extent:
XMin: -1.02261908401E7
YMin: 5136547.270199997
XMax: -1.01676430273E7
YMax: 5207456.551799998
Spatial Reference: 102100
(3857)
LatestVCSWkid(0)
Full Extent:
XMin: -1.02261908401E7
YMin: 5136547.270199997
XMax: -1.01676430273E7
YMax: 5207456.551799998
Spatial Reference: 102100
(3857)
LatestVCSWkid(0)
Pixel Size X: 0.6095999999999947
Pixel Size Y: 0.6096000000000029
Band Count: 4
Pixel Type: U8
RasterFunction Infos: {"rasterFunctionInfos": [{
"name": "None",
"description": "",
"help": ""
}]}
Mensuration Capabilities: None
Inspection Capabilities:
Has Histograms: true
Has Colormap: false
Has Multi Dimensions : false
Rendering Rule:
Min Scale: 0
Max Scale: 0
Resampling: false
Copyright Text:
Edit Fields Info:
- Creation Date Field: CreatedDate
- Creator Field: CreatedBy
- Edit Date Field: ModifiedDate
- Editor Field: ModifiedBy
Ownership Based Access Control:
- Allow Others to Update: false
- Allow Others to Delete: false
Service Data Type: esriImageServiceDataTypeProcessed
Min Values: 18, 27, 25, 20
Max Values: 255, 255, 255, 247
Mean Values: 122.1444684859755, 119.51719163715346, 105.7565702305059, 127.08134978700602
Standard Deviation Values: 46.255461937289994, 34.911413801959704, 30.920814957691075, 35.822558299660194
Object ID Field: OBJECTID
Fields:
-
OBJECTID
(
type: esriFieldTypeOID, alias: OBJECTID
)
-
Shape
(
type: esriFieldTypeGeometry, alias: Shape
)
-
Name
(
type: esriFieldTypeString, alias: Name, length: 200
)
-
MinPS
(
type: esriFieldTypeDouble, alias: MinPS
)
-
MaxPS
(
type: esriFieldTypeDouble, alias: MaxPS
)
-
LowPS
(
type: esriFieldTypeDouble, alias: LowPS
)
-
HighPS
(
type: esriFieldTypeDouble, alias: HighPS
)
-
Category
(
type: esriFieldTypeInteger, alias: Category
, Coded Values:
[0: Unknown]
, [1: Primary]
, [2: Overview]
, ...6 more...
)
-
Tag
(
type: esriFieldTypeString, alias: Tag, length: 100
)
-
GroupName
(
type: esriFieldTypeString, alias: GroupName, length: 100
)
-
ProductName
(
type: esriFieldTypeString, alias: ProductName, length: 100
)
-
CenterX
(
type: esriFieldTypeDouble, alias: CenterX
)
-
CenterY
(
type: esriFieldTypeDouble, alias: CenterY
)
-
ZOrder
(
type: esriFieldTypeInteger, alias: ZOrder
)
-
Resolution
(
type: esriFieldTypeInteger, alias: Resolution
, Coded Values:
[1: 24 inch]
)
-
Shape_Length
(
type: esriFieldTypeDouble, alias: Shape_Length
)
-
Shape_Area
(
type: esriFieldTypeDouble, alias: Shape_Area
)
Default Mosaic Method: Northwest
Allowed Mosaic Methods: NorthWest,Center,LockRaster,ByAttribute,Nadir,Viewpoint,Seamline,None
SortField:
SortValue: null
Mosaic Operator: First
Default Compression Quality: 75
Default Resampling Method: Bilinear
Max Record Count: 1000
Max Image Height: 4100
Max Image Width: 15000
Max Download Image Count: 20
Max Mosaic Image Count: 50
Allow Raster Function: true
Allow Copy: true
Allow Analysis: true
Allow Compute TiePoints: false
Supports Statistics: true
Supports Advanced Queries: true
Use StandardizedQueries: true
Raster Type Infos:
Name: Raster Dataset
Description: Supports all ArcGIS Raster Datasets
Help:
Has Raster Attribute Table: false
Edit Fields Info: {"creationDateField":"CreatedDate","creatorField":"CreatedBy","editDateField":"ModifiedDate","editorField":"ModifiedBy"}
Ownership Based AccessControl For Rasters: {"allowOthersToDelete":false,"allowOthersToUpdate":false}
Child Resources:
Info
Histograms
Statistics
Key Properties
Legend
Raster Function Infos
Supported Operations:
Export Image
Query
Identify
Compute Histograms
Compute Statistics Histograms
Get Samples
Compute Class Statistics
Query GPS Info
Find Images
Image to Map
Map to Image
Measure from Image
Image to Map Multiray
Query Boundary
Compute Pixel Location
Compute Angles
Validate
Project